BEGIN:VCALENDAR
VERSION:2.0
PRODID:-//Calendário de Eventos - ECPv6.11.2//NONSGML v1.0//EN
CALSCALE:GREGORIAN
METHOD:PUBLISH
X-ORIGINAL-URL:https://eventos.cm-cadaval.pt
X-WR-CALDESC:Events for Calendário de Eventos
REFRESH-INTERVAL;VALUE=DURATION:PT1H
X-Robots-Tag:noindex
X-PUBLISHED-TTL:PT1H
BEGIN:VTIMEZONE
TZID:UTC
BEGIN:STANDARD
TZOFFSETFROM:+0000
TZOFFSETTO:+0000
TZNAME:UTC
DTSTART:20250101T000000
END:STANDARD
END:VTIMEZONE
BEGIN:VEVENT
DTSTART;VALUE=DATE:20251114
DTEND;VALUE=DATE:20251205
DTSTAMP:20260422T110121
CREATED:20251103T120734Z
LAST-MODIFIED:20251103T124622Z
UID:1909-1763078400-1764892799@eventos.cm-cadaval.pt
SUMMARY:Rastreio Gratuito de Cancro da Mama
DESCRIPTION:De 14 de novembro a 4 de dezembro\, a Liga Portuguesa Contra o Cancro – Núcleo Regional do Sul (LPCC-NRS)\, em parceria com o Serviço Nacional de Saúde (SNS)\, promove o Rastreio do Cancro da Mama no Cadaval. A Unidade Móvel da LPCC estará instalada junto ao Centro de Saúde do Cadaval\, onde mulheres do concelho\, entre os 45 e os 74 anos\, poderão realizar o exame gratuitamente. \nO rastreio será assegurado por uma equipa técnica especializada e contará com equipamentos digitais de última geração\, que permitem uma maior precisão e qualidade no diagnóstico\, reforçando a importância da prevenção e da deteção precoce do cancro da mama. \nMais informações aqui.
URL:https://eventos.cm-cadaval.pt/evento/rastreio-gratuito-de-cancro-da-mama/
LOCATION:Centro de Saúde do Cadaval\, Rua Restauradores do Concelho\, n.º 4\, cadaval
CATEGORIES:Saúde
ATTACH;FMTTYPE=image/jpeg:https://eventos.cm-cadaval.pt/wp-content/uploads/2025/11/Post-RCM_CADAVAL-01_compressed-1-scaled.jpg
END:VEVENT
BEGIN:VEVENT
DTSTART;TZID=UTC:20251127T080000
DTEND;TZID=UTC:20251231T170000
DTSTAMP:20260422T110121
CREATED:20251127T120012Z
LAST-MODIFIED:20251127T120012Z
UID:1954-1764230400-1767200400@eventos.cm-cadaval.pt
SUMMARY:Cadaval transforma-se num cenário natalício e convida a viver momentos de pura magia
DESCRIPTION:O espírito natalício invade o Cadaval e promete um dezembro repleto de luz\, emoção e momentos para viver em família. O coração da festa será\, este ano\, o Parque de Natal\, instalado no Parque de Lazer do Cadaval\, preparado para transformar a vila no principal ponto de encontro das celebrações natalícias. \nO programa reúne dezenas de atividades culturais que pretendem reforçar o espírito de Natal e promover o encontro entre famílias\, comunidade escolar\, visitantes e residentes. \nMais informações AQUI
URL:https://eventos.cm-cadaval.pt/evento/cadaval-transforma-se-num-cenario-natalicio-e-convida-a-viver-momentos-de-pura-magia/
CATEGORIES:Cultura,Familiar,Festa
ATTACH;FMTTYPE=image/jpeg:https://eventos.cm-cadaval.pt/wp-content/uploads/2025/11/Cartaz-Geral-Parque-de-Natal.-JPG-scaled.jpeg
END:VEVENT
BEGIN:VEVENT
DTSTART;TZID=UTC:20251206T080000
DTEND;TZID=UTC:20251220T170000
DTSTAMP:20260422T110121
CREATED:20251126T095937Z
LAST-MODIFIED:20251126T100256Z
UID:1944-1765008000-1766250000@eventos.cm-cadaval.pt
SUMMARY:IV Ciclo de Exposições | Exposição Coletiva "Linhas e Cores no Cadaval"
DESCRIPTION:No dia 6 de dezembro\, pelas 11h00\, será inaugurada na Biblioteca Municipal do Cadaval a exposição coletiva “Linhas e Cores no Cadaval” de Victor Freire e Leonor Levi.\n\n\nEsta mostra\, que integra o IV Ciclo de Exposições da BMC\, ficará patente até 20 de dezembro.\n\nVisite!
URL:https://eventos.cm-cadaval.pt/evento/iv-ciclo-de-exposicoes-exposicao-coletiva-linhas-e-cores-no-cadaval/
LOCATION:Biblioteca Municipal do Cadaval\, Rua do Moinho 88\, Cadaval\, 2550-354
CATEGORIES:Cultura
ATTACH;FMTTYPE=image/png:https://eventos.cm-cadaval.pt/wp-content/uploads/2025/11/Ciclos-de-Exposicoes-32.png
END:VEVENT
BEGIN:VEVENT
DTSTART;TZID=UTC:20251206T100000
DTEND;TZID=UTC:20251206T170000
DTSTAMP:20260422T110121
CREATED:20251109T142411Z
LAST-MODIFIED:20251109T142411Z
UID:1920-1765015200-1765040400@eventos.cm-cadaval.pt
SUMMARY:Plantar Amor - Plantação de Árvores & Aula de Yoga em família
DESCRIPTION:No dia 6 de Dezembro\, vem participar no evento da reflorestação do Ashram da Bhakti Marga Portugal. O objetivo? Plantar 108 árvores num único dia\, como parte de uma meta ainda mais inspiradora de 1.008 árvores! \nAlém da plantação\, o dia começa com yoga para crianças e famílias\, um momento que nos prepara para a energia do dia. \nIncrições aqui! \n  \n  \nPrograma | Início às 10h \n8:00 Credenciação & Recepção\n09:00 Yoga para Crianças & Famílias\n10:00 Acolhimento ( Apresentação do Ashram e do Projeto “O ashram e a Serra do Montejunto”)\n10:30 Inicio da plantação\n13:00 Almoço***\n14:30 Continuação da plantação & Curiosidades sobre Bonsais\n17:00 Yajna \nComo podes apoiar?\nParticipa e Apadrinha*: (donativo no final do registo\, no checkout) Vem plantar árvores no dia 6 de dezembro e contribui diretamente para a plantação.\nApadrinha* à Distância: Mesmo que não possas estar presente\, podes ajudar a reflorestar apadrinhando o projeto\, clica aqui. \nCada contribuição conta para alcançar o objetivo de 1.008 árvores!\nJuntos\, podemos fazer a diferença! \nVamos plantar amor\, vida e esperança!\nInscreve-te e/ou apadrinha este projeto hoje mesmo! \nValor:\nCom almoço: 12€  com preço reduzido até 1 de dezembro** (inclusive). (crianças até aos 5 anos\, gratuito. Maiores de 5\, efetuar a compra ao adicionar um bilhete). Termina a 5 Dezembro\, às 24h.\nMenu Infantil (dos 5 aos 12 anos): 5€ com preço reduzido até 1 de dezembro** (inclusive).\nApadrinhar Projecto\, clica aqui\, por donativo\, mínimo 5€ \n* Inscrição obrigatória para quem se desloca ao Ashram. Se quer apadrinhar o projeto\, deve escolher um bilhete para a entrada e o apadrinhamento na mesma compra.\n** Após esta data o valor do almoço acresce 5€.\n*** Menu inclui entradas\, prato principal (Feijoada de feijão branco e pleurotus)\, sobremesa\, e bebida. A refeição servida neste evento pode conter ou ter sido confeccionada em contacto com alimentos que provocam alergias ou intolerâncias (tais como glúten\, soja\, entre outros). Não é possível garantir a ausência de alergénios \nVem Plantar Amor! \nCom Amor \nBhakti Marga Portugal
URL:https://eventos.cm-cadaval.pt/evento/plantar-amor-plantacao-de-arvores-aula-de-yoga-em-familia/
LOCATION:Ashram\, 62F4+GM\, Cercal\, Cadaval\, Portugal
END:VEVENT
BEGIN:VEVENT
DTSTART;TZID=UTC:20251206T230000
DTEND;TZID=UTC:20251207T050000
DTSTAMP:20260422T110121
CREATED:20251120T111330Z
LAST-MODIFIED:20251120T111330Z
UID:1931-1765062000-1765083600@eventos.cm-cadaval.pt
SUMMARY:Montejunto PowerFest III
DESCRIPTION:Desde 2012\, temos agora a terceira edição do MPF no dia 6 de Dezembro pelas 23H com: \nTwoMates \nDeixa Rolar \nDj Ex [AfterHours] \n3€ com oferta de 1 senha. \nVem ter uma grande noite conosco para fecharmos 2025 em grande!
URL:https://eventos.cm-cadaval.pt/evento/montejunto-powerfest-iii/
LOCATION:Associação dos Casais de Montejunto\, Rua do Vale nº1\, Casais de Montejunto\, 2550-354\, Portugal
END:VEVENT
BEGIN:VEVENT
DTSTART;TZID=UTC:20251213T100000
DTEND;TZID=UTC:20251213T130000
DTSTAMP:20260422T110121
CREATED:20251212T120550Z
LAST-MODIFIED:20251212T120550Z
UID:1980-1765620000-1765630800@eventos.cm-cadaval.pt
SUMMARY:Feira do Livro Solidária
DESCRIPTION:Num tempo em que a partilha e a solidariedade falam ainda mais alto\, a Biblioteca Municipal do Cadaval promove mais uma edição da Feira do Livro Solidária. \nO evento realiza-se este sábado\, 13 de dezembro\, a partir das 10h00\, na Praça da República\, em simultâneo com o mercado EcoRural. \nVisite\, participe e contribua para esta causa!
URL:https://eventos.cm-cadaval.pt/evento/feira-do-livro-solidaria-2/
LOCATION:Praça da República do Cadaval\, 2550-116 Cadaval\, Cadaval\, Portugal
CATEGORIES:Ambiente,Diversos,Feira,Feiras
ATTACH;FMTTYPE=image/png:https://eventos.cm-cadaval.pt/wp-content/uploads/2025/12/BM-Solidaria-27.png
END:VEVENT
BEGIN:VEVENT
DTSTART;TZID=UTC:20251214T170000
DTEND;TZID=UTC:20251214T183000
DTSTAMP:20260422T110121
CREATED:20251212T120939Z
LAST-MODIFIED:20251212T120939Z
UID:1983-1765731600-1765737000@eventos.cm-cadaval.pt
SUMMARY:Sessão de Lançamento do livro “Crónicas d’Adolescente”
DESCRIPTION:A Biblioteca Municipal do Cadaval acolhe\, no dia 14 de dezembro\, pelas 17h00\, a sessão de lançamento do livro “Crónicas d’Adolescente”\, da autoria de Tomás Correia\, um jovem talento cadavalense.\nDestinado a pais e filhos\, a obra reúne crónicas que retratam a grande tempestade — com momentos de bonança — que é deixar de ser criança sem ainda ser adulto.\nContamos consigo!
URL:https://eventos.cm-cadaval.pt/evento/sessao-de-lancamento-do-livro-cronicas-dadolescente/
LOCATION:Biblioteca Municipal do Cadaval\, Rua do Moinho 88\, Cadaval\, 2550-354
CATEGORIES:Cultura,Familiar,Juventude
ATTACH;FMTTYPE=image/jpeg:https://eventos.cm-cadaval.pt/wp-content/uploads/2025/12/IMG-20251211-WA00042-scaled.jpg
END:VEVENT
BEGIN:VEVENT
DTSTART;TZID=UTC:20251219T220000
DTEND;TZID=UTC:20251221T050000
DTSTAMP:20260422T110121
CREATED:20251209T213315Z
LAST-MODIFIED:20251210T133752Z
UID:1968-1766181600-1766293200@eventos.cm-cadaval.pt
SUMMARY:Festa de Natal
DESCRIPTION:
URL:https://eventos.cm-cadaval.pt/evento/festa-de-natal/
LOCATION:Casão do Rancho\, Rua do foro\, Murteira\, 2550-368\, Portugal
CATEGORIES:Cultura,Festa,Música
END:VEVENT
BEGIN:VEVENT
DTSTART;TZID=UTC:20251219T220000
DTEND;TZID=UTC:20251221T050000
DTSTAMP:20260422T110121
CREATED:20251211T080701Z
LAST-MODIFIED:20251211T080701Z
UID:1978-1766181600-1766293200@eventos.cm-cadaval.pt
SUMMARY:Festa de Natal
DESCRIPTION:
URL:https://eventos.cm-cadaval.pt/evento/festa-de-natal-2/
LOCATION:Casão do Rancho\, Rua do foro\, Murteira\, 2550-368\, Portugal
CATEGORIES:Cultura,Festa,Juventude,Música
ATTACH;FMTTYPE=image/jpeg:https://eventos.cm-cadaval.pt/wp-content/uploads/2025/12/Festa-de-Natal-2025_page-0001.jpg
END:VEVENT
BEGIN:VEVENT
DTSTART;TZID=UTC:20251222T080000
DTEND;TZID=UTC:20260120T170000
DTSTAMP:20260422T110121
CREATED:20251222T172239Z
LAST-MODIFIED:20251222T173525Z
UID:2037-1766390400-1768928400@eventos.cm-cadaval.pt
SUMMARY:CORPO SANO EM MENTE SANA +55
DESCRIPTION:CORPO SANO EM MENTE SANA\nCriação de um espaço para falar\, partilhar saberes\, experiências significativas\, fazendo os participantes sentirem-se ouvidos\, um espaço para ir um pouco mais além\, com momentos mais teóricos e outros mais práticos\, reaprendendo também a lidar consigo\, com as emoções de uma forma diferente do que foram ensinados. \nEnfim\, re-significar é urgente “Corpo sano em mente sana” –  “Nunca é tarde para aprender \, nunca é tarde para mudar “ é um programa simples porém com capacidade de catalisar mudanças efectivas no  dia a dia. \n  \nParticipação gratuita com inscrição obrigatória. \nCLDS 5G Melhor Cadaval | Associação Leader Oeste \n262 096 366 | 917 066 391 \ncldscadaval@gmail.com
URL:https://eventos.cm-cadaval.pt/evento/corpo-sano-em-mente-sana-55/
LOCATION:Leader Oeste-Associação Desenvolvimento Rural\, Rua Dr. Duarte Ribeiro de Macedo s/n Edifício da Antiga Escola Primária\, Cadaval\, Cadaval\, 2550-149\, Portugal
CATEGORIES:Cultura,Familiar,Saúde
ATTACH;FMTTYPE=image/jpeg:https://eventos.cm-cadaval.pt/wp-content/uploads/2025/12/POST-2-scaled.jpg
ORGANIZER;CN="CLDS 5G Melhor Cadaval - Leader Oeste":MAILTO:cldscadaval@gmail.com
END:VEVENT
BEGIN:VEVENT
DTSTART;TZID=UTC:20251222T080000
DTEND;TZID=UTC:20260122T170000
DTSTAMP:20260422T110121
CREATED:20251222T162426Z
LAST-MODIFIED:20251222T172402Z
UID:2021-1766390400-1769101200@eventos.cm-cadaval.pt
SUMMARY:Danças Tradicionais +55
DESCRIPTION:  \nO CLDS 5G Melhor Cadaval vai desenvolver\, em parceria com a Câmara Municipal do Cadaval\, um conjunto de atividades que pretendem promover a prática de atividade física junto da população com mais de 55 anos! \nAs Danças Tradicionais  enquanto forma de expressão artística e corporal\, é uma atividade física completa com vários benefícios comprovados na condição física e mental\, melhorando a saúde e facilitando a socialização. Quando o corpo se move com alegria e boa disposição até a vida ganha outro compasso. \nA inscrição é gratuita mas obrigatória\, e pode ser feita através do seguinte contacto: \nCLDS 5G Melhor Cadaval | Associação Leader Oeste \n262 096 366 | 917 066 391 \ncldscadaval@gmail.com
URL:https://eventos.cm-cadaval.pt/evento/dancas-tradicionais-55/
LOCATION:Casa do Povo\, Rua Dr. José Joyce Damas Mora 15\,\, Cadaval\, Oeste\, 2550-102\, Portugal
CATEGORIES:Ação Social,Cultura,Desporto,Música,Saúde
ATTACH;FMTTYPE=image/jpeg:https://eventos.cm-cadaval.pt/wp-content/uploads/2025/12/POST_-DANCAS.jpg
ORGANIZER;CN="CLDS 5G Melhor Cadaval - Leader Oeste":MAILTO:cldscadaval@gmail.com
END:VEVENT
BEGIN:VEVENT
DTSTART;TZID=UTC:20251222T100000
DTEND;TZID=UTC:20260121T110000
DTSTAMP:20260422T110121
CREATED:20251222T152457Z
LAST-MODIFIED:20251222T170357Z
UID:1993-1766397600-1768993200@eventos.cm-cadaval.pt
SUMMARY:Walking Football +55
DESCRIPTION:  \n  \nO CLDS 5G Melhor Cadaval vai desenvolver\, em parceria com a Câmara Municipal do Cadaval\, um conjunto de atividades que pretendem promover a prática de atividade física junto da população com mais de 55 anos!\nO Walking Football é uma variante do futebol\, é futebol a andar\, e tem como objetivo incentivar a prática desportiva para pessoas com idades superiores a 55 anos\, promovendo a integração e o convívio em prol de uma vida mais ativa.\nEsta adaptação do futebol sem corridas\, saltos\, rasteiras\, carrinhos e cortes permite a participação de todos\, independentemente da idade ou condição física\, visando proteger quem o pratica.\nAs equipas são mistas e homens e mulheres podem participar.\n  \nA inscrição para esta atividade é gratuita\, mas obrigatória  e pode ser feita através dos seguintes contactos.\nCLDS 5G Melhor Cadaval \n262 096 366 | 917 066 391 \ncldscadaval@gmail.com \n  \n  \n 
URL:https://eventos.cm-cadaval.pt/evento/__trashed/
LOCATION:Pavilhão do Grupo Desportivo do Vilar\, Vilar\, Cadaval\, Portugal
CATEGORIES:Ação Social,Desporto,Saúde
ATTACH;FMTTYPE=image/jpeg:https://eventos.cm-cadaval.pt/wp-content/uploads/2025/12/post-scaled.jpg
ORGANIZER;CN="CLDS 5G Melhor Cadaval - Leader Oeste":MAILTO:cldscadaval@gmail.com
END:VEVENT
END:VCALENDAR