BEGIN:VCALENDAR
VERSION:2.0
PRODID:-//Calendário de Eventos - ECPv6.11.2//NONSGML v1.0//EN
CALSCALE:GREGORIAN
METHOD:PUBLISH
X-ORIGINAL-URL:https://eventos.cm-cadaval.pt
X-WR-CALDESC:Events for Calendário de Eventos
REFRESH-INTERVAL;VALUE=DURATION:PT1H
X-Robots-Tag:noindex
X-PUBLISHED-TTL:PT1H
BEGIN:VTIMEZONE
TZID:UTC
BEGIN:STANDARD
TZOFFSETFROM:+0000
TZOFFSETTO:+0000
TZNAME:UTC
DTSTART:20260101T000000
END:STANDARD
END:VTIMEZONE
BEGIN:VEVENT
DTSTART;TZID=UTC:20260124T080000
DTEND;TZID=UTC:20260207T170000
DTSTAMP:20260420T040513
CREATED:20260119T104813Z
LAST-MODIFIED:20260119T104813Z
UID:2070-1769241600-1770483600@eventos.cm-cadaval.pt
SUMMARY:V Ciclo de Exposições | Exposição "CAMINHO" de Iryna Tarasova
DESCRIPTION:No dia 24 de janeiro\, pelas 11h00\, será inaugurada na Biblioteca Municipal do Cadaval a exposição “CAMINHO” de Iryna Tarasova.\n\n\nEsta mostra\, que integra o V Ciclo de Exposições da BMC\, ficará patente até 7 de fevereiro.\n\nVisite!
URL:https://eventos.cm-cadaval.pt/evento/v-ciclo-de-exposicoes-exposicao-caminho-de-iryna-tarasova/
LOCATION:Biblioteca Municipal do Cadaval\, Rua do Moinho 88\, Cadaval\, 2550-354
CATEGORIES:Cultura
ATTACH;FMTTYPE=image/png:https://eventos.cm-cadaval.pt/wp-content/uploads/2026/01/Ciclos-de-Exposicoes-34.png
END:VEVENT
BEGIN:VEVENT
DTSTART;TZID=UTC:20260127T080000
DTEND;TZID=UTC:20260204T170000
DTSTAMP:20260420T040513
CREATED:20260127T121404Z
LAST-MODIFIED:20260127T121404Z
UID:2088-1769500800-1770224400@eventos.cm-cadaval.pt
SUMMARY:Sessão de Esclarecimentos - Sistema de Incentivos de Base Territorial – ITI CIM do Oeste – Indústria
DESCRIPTION:Decorre no próximo dia 4 de fevereiro pelas 15h00 no Auditório dos Paços do Concelho\, uma Sessão de Esclarecimentos sobre “Sistema de Incentivos de Base Territorial – ITI CIM do Oeste – Indústria”\, organizado pela OesteCim\, com a presença de Paulo Simões\, Secretário executivo. \n\nFinanciado pelo Fundo Europeu de Desenvolvimento Regional (FEDER)\, conta com uma dotação indicativa de 2\,5 milhões de euros e uma taxa máxima de cofinanciamento de 40%\, visando reforçar a competitividade\, a modernização produtiva e a criação e manutenção de emprego nas micro e pequenas empresas industriais da região.\n\nSão elegíveis projetos de investimento de pequena dimensão enquadrados em duas tipologias principais:\nCriação de micro e pequena empresas\, correspondendo a estratégias de investimento em empresas com menos de 5 anos de atividade à data de submissão da candidatura;\nExpansão ou modernização de micro e pequenas empresas\, com pelo menos 5 anos de atividade à data de submissão da candidatura\, designadamente através do aumento da atividade económica\, integração em cadeias de valor e expansão de redes empresariais ou outros projetos de ganhos de escala\n\nPara mais informações\, notícia completa aqui.
URL:https://eventos.cm-cadaval.pt/evento/sessao-de-esclarecimentos-sistema-de-incentivos-de-base-territorial-iti-cim-do-oeste-industria/
CATEGORIES:Diversos
ATTACH;FMTTYPE=image/png:https://eventos.cm-cadaval.pt/wp-content/uploads/2026/01/POST-Sessao-de-Esclarecimento-OESTECIM.png
END:VEVENT
BEGIN:VEVENT
DTSTART;TZID=UTC:20260223T080000
DTEND;TZID=UTC:20260301T170000
DTSTAMP:20260420T040513
CREATED:20260223T112414Z
LAST-MODIFIED:20260223T112414Z
UID:2109-1771833600-1772384400@eventos.cm-cadaval.pt
SUMMARY:Cadaval na BTL 2026
DESCRIPTION:De 25 de fevereiro a 1 de março\, o Município do Cadaval volta a marcar presença na BTL – Bolsa de Turismo de Lisboa\, o maior evento do setor em Portugal\, para divulgar o que de melhor o concelho tem para oferecer. \nA BTL 2026 decorre uma vez mais na Feira Internacional de Lisboa (FIL)\, no Parque das Nações. Durante cinco dias\, o Cadaval estará representado no stand Oeste Portugal\, da Comunidade Intermunicipal do Oeste (OesteCIM)\, no Pavilhão 2. O evento que vai já na sua 36.ª edição tem como principais objetivos a promoção\, divulgação\, captação e desenvolvimento de novos fluxos turísticos. \nNa banca do Cadaval estarão em destaque diversos produtos endógenos\, acompanhados de imagens representativas dos locais e eventos mais emblemáticos do Concelho. \nVisite-nos!
URL:https://eventos.cm-cadaval.pt/evento/cadaval-na-btl-2026/
CATEGORIES:Feiras,Turismo
ATTACH;FMTTYPE=image/jpeg:https://eventos.cm-cadaval.pt/wp-content/uploads/2026/02/1741967348151.jpg
END:VEVENT
BEGIN:VEVENT
DTSTART;TZID=UTC:20260227T080000
DTEND;TZID=UTC:20260227T170000
DTSTAMP:20260420T040513
CREATED:20260227T113355Z
LAST-MODIFIED:20260227T113355Z
UID:2135-1772179200-1772211600@eventos.cm-cadaval.pt
SUMMARY:Exposição "Nós com a Europa"
DESCRIPTION:A exposição “Nós\, com a Europa” convida a revisitar o caminho que Portugal tem vindo a construir com a União Europeia\, ligando passado\, presente e perspetivas de futuro.\n\nEntre negociações e tratados\, esta história começou antes da adesão e continua a influenciar a forma como o país se posiciona no espaço europeu.\nConhecer os trilhos que Portugal desbravou no cenário europeu ajuda a compreender melhor o presente e a pensar o futuro com mais consciência. Esta mostra reúne imagens\, documentos e testemunhos que revelam momentos marcantes dessa relação\, aproximando diferentes gerações de uma memória comum.A mostra estará patente na Biblioteca Municipal do Cadaval de 2 a 3 de março. \nPromovida pela AACEP – Associação Académica de Ciências Económicas e Políticas\, com curadoria da historiadora Alice Cunha\, a exposição conta com o apadrinhamento da Comissão Comemorativa dos 50 anos do 25 de Abril e o apoio da Representação da Comissão Europeia em Portugal e da Rádio Antena 2. A coordenação geral é assegurada pelos estudantes Gonçalo Osório de Castro e Guilherme Lidon Guerra\, demonstrando o valor do trabalho conjunto entre estudantes\, academia e instituições. \nCom caráter itinerante\, “Nós\, com a Europa” pretende percorrer o país e reforçar a literacia política\, levando o debate europeu a diferentes territórios. A exposição\, que estará patente na Biblioteca Municipal do Cadaval de 2 a 13 de março\, oferece o testemunho da memória a quem não a viveu e convida jovens e adultos a olhar estas imagens\, muitas vezes pela primeira vez\, refletindo sobre o percurso de Portugal na Europa. \nVisite! \nParceria: Biblioteca Municipal do Cadaval\, OesteCIM e EUROPE DIRECT Oeste\, Lezíria e Médio Tejo.
URL:https://eventos.cm-cadaval.pt/evento/exposicao-nos-com-a-europa/
CATEGORIES:Cultura
ATTACH;FMTTYPE=image/png:https://eventos.cm-cadaval.pt/wp-content/uploads/2026/02/Cartaz-A3-Vamos-Brasil--scaled.png
END:VEVENT
BEGIN:VEVENT
DTSTART;TZID=UTC:20260228T150000
DTEND;TZID=UTC:20260228T190000
DTSTAMP:20260420T040513
CREATED:20260223T113015Z
LAST-MODIFIED:20260223T113719Z
UID:2117-1772290800-1772305200@eventos.cm-cadaval.pt
SUMMARY:Grande Prémio de Atletismo "CORRE CADAVAL" | 5.ª edição
DESCRIPTION:No dia 28 de fevereiro de 2026 (sábado)\, o Município do Cadaval promove a quinta edição do Grande Prémio de Atletismo “Corre Cadaval”\, prova que voltará a contar com o apoio da Associação de Atletismo de Lisboa.\nO Grande Prémio irá dividir-se em duas provas: \n\nProva Juvenil: Circuitos no Parque de Lazer\n\nProva de Honra (10 km): Com partida e chegada ao Parque de Lazer\, passando por Casal Cabreiro\, Casais de Montejunto e Chão do Sapo\, utilizando uma parte da ciclovia. \n\n\nTodas as informações e incrições AQUI
URL:https://eventos.cm-cadaval.pt/evento/grande-premio-de-atletismo-corre-cadaval-5-a-edicao/
CATEGORIES:Desporto
ATTACH;FMTTYPE=image/png:https://eventos.cm-cadaval.pt/wp-content/uploads/2026/02/POST-CORRE-CADAVAL_2026.png
END:VEVENT
BEGIN:VEVENT
DTSTART;TZID=UTC:20260308T130000
DTEND;TZID=UTC:20260308T180000
DTSTAMP:20260420T040513
CREATED:20260220T143625Z
LAST-MODIFIED:20260220T143625Z
UID:2105-1772974800-1772992800@eventos.cm-cadaval.pt
SUMMARY:Holi Festival - O Festival das Cores
DESCRIPTION:HOLI FESTIVAL \nHoli\, também conhecido como Festival das Cores\, Festival da Primavera e Festival do Amor\, celebra o amor de Radha e Krishna e simboliza a vitória do bem sobre o mal. Durante o Holi\, as pessoas esquecem as suas preocupações e atiram pó colorido (gulal) e água umas às outras\, enquanto cantam\, dançam e celebram os novos começos. \n  \n“Holi é o lembrete de que a vida é colorida e que devemos espalhar alegria à nossa volta.” – Paramahamsa Vishwananda \nPROGRAMA \n13:00 – Almoço* \n14:30 – Satsang sobre significado do Holi  \n15:00 – Holi Festival & Kirtan \n17:00 – Maha Lakshmi Yagna \nCuidados e Restrições \nPara tornar a experiência segura e agradável para todos\, devem seguir estas recomendações: \n✅ Usar roupas confortáveis e que possam ser manchadas; \n✅ óculos de proteção são recomendados; \n✅ Hidratação é essencial – traga a sua garrafa de água!; \n✅ Os pós-coloridos usados no evento são seguros e biodegradáveis. Porém\, se tiverem alergias respiratórias ou de pele\, devem consultar um médico antes de participar \nEvento aberto a todas as idades. No entanto\, crianças com menos de 12 anos devem estar acompanhadas por um responsável e devem ser registadas no momento da inscrição. Inscrição obrigatória aqui! \n*A refeição servida neste evento pode conter ou ter sido confeccionada em contacto com alimentos que provocam alergias ou intolerâncias (tais como glúten\, soja\, entre outros). Não é possível garantir a ausência de alergénios. \n 
URL:https://eventos.cm-cadaval.pt/evento/holi-festival-o-festival-das-cores/
LOCATION:Ashram\, 62F4+GM\, Cercal\, Cadaval\, Portugal
CATEGORIES:Cultura,Diversos,Familiar,Juventude,Meditação,Música,Yoga
ORGANIZER;CN="Bhakti Marga Portugal":MAILTO:https://bhaktimarga.pt/
END:VEVENT
BEGIN:VEVENT
DTSTART;TZID=UTC:20260313T080000
DTEND;TZID=UTC:20260313T170000
DTSTAMP:20260420T040513
CREATED:20260227T113723Z
LAST-MODIFIED:20260227T113723Z
UID:2138-1773388800-1773421200@eventos.cm-cadaval.pt
SUMMARY:Gala de Carnaval
DESCRIPTION:O Município do Cadaval promove\, no dia 13 de março de 2026\, às 21h00\, a Gala do Carnaval\, que terá lugar no Pólo Social e Cultural da Fonte. \nA iniciativa assinala a cerimónia oficial de encerramento do Carnaval\, sob o mote “O Carnaval vive em ti. Cadaval”\, reunindo a comunidade para um momento de celebração desta tradição festiva do concelho. \nO programa inclui ainda uma homenagem ao Prof. Leiroz\, reconhecendo o seu contributo para a dinamização cultural e associativa local. \nA Gala do Carnaval pretende valorizar o espírito carnavalesco\, a identidade cultural do território e o envolvimento da população nas festividades que marcam esta época do ano.
URL:https://eventos.cm-cadaval.pt/evento/gala-de-carnaval/
CATEGORIES:Cultura,Festa
ATTACH;FMTTYPE=image/jpeg:https://eventos.cm-cadaval.pt/wp-content/uploads/2026/02/IMG-20260226-WA0010-1-scaled.jpg
END:VEVENT
BEGIN:VEVENT
DTSTART;TZID=UTC:20260320T080000
DTEND;TZID=UTC:20260325T170000
DTSTAMP:20260420T040513
CREATED:20260320T135552Z
LAST-MODIFIED:20260320T135552Z
UID:2154-1773993600-1774458000@eventos.cm-cadaval.pt
SUMMARY:Cadaval abre espaço a novos olhares sobre o mundo rural e o futuro dos territórios
DESCRIPTION:O Município do Cadaval e a Leader Oeste promovem\, a partir de março de 2026\, um ciclo de quatro conferências dedicado aos “Desafios e Oportunidades dos Territórios Rurais”. A primeira sessão realiza-se a 24 de março\, às 14h00\, no Auditório dos Paços do Concelho\, sob o tema “Olhares sobre a ruralidade e recuperação atualizada da aldeia”. \nA iniciativa convida à reflexão sobre o futuro das aldeias e o papel da ruralidade na construção de territórios mais resilientes\, equilibrados e sustentáveis. \nom esta iniciativa\, o Município do Cadaval reafirma o seu compromisso com o debate informado e convida à reflexão e à ação em torno de soluções sustentáveis\, ajustadas às realidades locais. \nA participação é gratuita\, mas carece de inscrição. Mais informações e incrições AQUI \nPrograma \n14h00 – Abertura: Presidente do Município de Cadaval e Membro da Direção da Leader Oeste \n14h30- Keynote speaker: “En busca de la aldea perdida” – Jaime Izquierdo Vallina\, Cátedra Cultural Pedro Molina de Estudios Campesinos\, Universidad de La laguna\, Espanha \n15h30 – “A intervenção do programa LEADER no Oeste: um mapeamento de exemplos de uma ruralidade marcante” – José Coutinho\, Coordenador da ETL do GAL\, Leader Oeste \n16h00 – Debate \n16h30 – Coffee Break \n17h00 – Apresentação do livro “Uma nova economia para a aldeia do século XXI”\, de Jaime Izquierdo Vallina\, com tradução e adaptação ao português de Ana Bijóias Mendonça \nApresentação a cargo de Firmino Cordeiro\, Diretor- Geral da Associação de Jovens Agricultores de Portugal (AJAP)\, e de Teresa Adão\, editora Edições Esgotadas.
URL:https://eventos.cm-cadaval.pt/evento/cadaval-abre-espaco-a-novos-olhares-sobre-o-mundo-rural-e-o-futuro-dos-territorios/
CATEGORIES:Diversos
ATTACH;FMTTYPE=image/png:https://eventos.cm-cadaval.pt/wp-content/uploads/2026/03/ConferenciaApresentacao-do-livro_cartaz_2-1-scaled.png
END:VEVENT
BEGIN:VEVENT
DTSTART;TZID=UTC:20260323T080000
DTEND;TZID=UTC:20260323T170000
DTSTAMP:20260420T040513
CREATED:20260320T135957Z
LAST-MODIFIED:20260320T140053Z
UID:2161-1774252800-1774285200@eventos.cm-cadaval.pt
SUMMARY:Internet sem Medos - Segurança na Internet na Biblioteca Municipal
DESCRIPTION:Recebe mensagens estranhas no telemóvel? Já ouviu falar de burlas na internet e não sabe bem como se proteger?\n\n\n\nA Biblioteca Municipal do Cadaval convida-o(a) a participar na 1.ª sessão do projeto “Internet sem Medos”\, onde vamos explicar\, de forma simples e prática\, como usar a internet e o telemóvel com mais segurança.\n\n\nDurante a sessão\, vamos abordar temas como burlas online\, mensagens suspeitas\, redes sociais e outras situações comuns do dia a dia digital\, partilhando também alguns cuidados simples que ajudam a evitar problemas.\n\n\n\n 23 de março\n 16h00\n Destinatários: maiores de 18 anos\n Inscrições até 20 de março (vagas limitadas)\n biblioteca@cm-cadaval.pt\n 262 690 160\nou presencialmente na Biblioteca.
URL:https://eventos.cm-cadaval.pt/evento/internet-sem-medos-seguranca-na-internet-na-biblioteca-municipa/
CATEGORIES:Diversos
ATTACH;FMTTYPE=image/jpeg:https://eventos.cm-cadaval.pt/wp-content/uploads/2026/03/651322780_1451457790355086_6994018806443323722_n.jpg
END:VEVENT
BEGIN:VEVENT
DTSTART;TZID=UTC:20260403T080000
DTEND;TZID=UTC:20260420T170000
DTSTAMP:20260420T040513
CREATED:20260416T110342Z
LAST-MODIFIED:20260416T111534Z
UID:2179-1775203200-1776704400@eventos.cm-cadaval.pt
SUMMARY:Exposição "Concelho do Cadaval - Património que nos Une" chega à Dagorda
DESCRIPTION:A exposição de rua “Concelho do Cadaval – Património que nos Une” retomou o seu percurso pelo concelho e está patente na Dagorda até dia 20 de abril.\n\n\nApós uma breve interrupção\, a mostra volta a percorrer várias localidades\, convidando a população a conhecer e valorizar o património que nos liga.\n\n\nPromovida pelo Museu Municipal do Cadaval\, esta exposição itinerante destaca a identidade e a história do concelho\, aproximando a cultura das comunidades.
URL:https://eventos.cm-cadaval.pt/evento/%f0%9d%97%98%f0%9d%98%85%f0%9d%97%bd%f0%9d%97%bc%f0%9d%98%80%f0%9d%97%b6%f0%9d%97%b0%cc%a7%f0%9d%97%ae%cc%83%f0%9d%97%bc-%f0%9d%97%96%f0%9d%97%bc%f0%9d%97%bb%f0%9d%97%b0%f0%9d%97%b2/
CATEGORIES:Cultura
ATTACH;FMTTYPE=image/jpeg:https://eventos.cm-cadaval.pt/wp-content/uploads/2026/04/655912819_1459378722896326_4904397166623995774_n.jpg
END:VEVENT
BEGIN:VEVENT
DTSTART;TZID=UTC:20260424T080000
DTEND;TZID=UTC:20260425T170000
DTSTAMP:20260420T040513
CREATED:20260416T111010Z
LAST-MODIFIED:20260416T111010Z
UID:2185-1777017600-1777136400@eventos.cm-cadaval.pt
SUMMARY:Comemorações do 52.º Aniversário do 25 de Abril
DESCRIPTION:O Município do Cadaval assinala o 52.º Aniversário do 25 de abril.\n\n\n\nNo Cadaval\, a liberdade celebra-se com um programa pensado para todos.\n\n\nDescubra o que preparámos e junte-se a esta celebração.\n\n\n\nConheça o programa completo.
URL:https://eventos.cm-cadaval.pt/evento/comemoracoes-do-52-o-aniversario-do-25-de-abril/
CATEGORIES:Cultura
ATTACH;FMTTYPE=image/png:https://eventos.cm-cadaval.pt/wp-content/uploads/2026/04/1.png
END:VEVENT
BEGIN:VEVENT
DTSTART;VALUE=DATE:20260516
DTEND;VALUE=DATE:20260518
DTSTAMP:20260420T040513
CREATED:20260407T125041Z
LAST-MODIFIED:20260407T125041Z
UID:2173-1778889600-1779062399@eventos.cm-cadaval.pt
SUMMARY:
DESCRIPTION:Just Love Mantra Festival | 16 & 17 MAIO 2026\n\n\nO Just Love Mantra Festival é um espaço onde a alma floresce\, a vida se celebra em sorrisos e o amor prevalece! \nDois dias de música\, mantras\, yoga e meditação\, com workshops e aulas pensados para acalmar a mente e nutrir o coração\, oferecendo-te ferramentas para o dia a dia. \nJunta-te a nós e vem deixar a tua marca no nosso Mural de Arte! Ao longo do festival\, terás a oportunidade de explorar o teu lado criativo e transformar a tua mente através da arte. \n\n\n\n\nMÚSICA\n\n\nA música é o coração do festival! Durante dois dias\, vais poder cantar\, dançar e simplesmente ser feliz\, com concertos que te envolvem numa energia de alegria e conexão. \n\n\n\n\nWORKSHOPS\n\nAprende novas práticas para acalmar a mente e ouvir o coração. Desde yoga e meditação a desenvolvimento pessoal\, os workshops são momentos de descoberta\, aprendizagem e partilha.\n\n\n\n\nCOMIDA VEGAN\n\nA alimentação faz parte da experiência! No nosso Food Court\, encontras comida 100% vegetal\, desde opções leves e nutritivas a sugestões deliciosas – sempre preparadas com amor.\n\n\n\nBilhetes à venda em www.justlovemantra.pt
URL:https://eventos.cm-cadaval.pt/evento/2173/
LOCATION:Ashram\, 62F4+GM\, Cercal\, Cadaval\, Portugal
CATEGORIES:Ambiente,Familiar,Festa,Juventude,Meditação,Música,Yoga
ATTACH;FMTTYPE=image/jpeg:https://eventos.cm-cadaval.pt/wp-content/uploads/2026/04/xYcdfM6MflFR.jpg
ORGANIZER;CN="Bhakti Marga Portugal":MAILTO:https://bhaktimarga.pt/
END:VEVENT
END:VCALENDAR