BEGIN:VCALENDAR
VERSION:2.0
PRODID:-//Calendário de Eventos - ECPv6.11.2//NONSGML v1.0//EN
CALSCALE:GREGORIAN
METHOD:PUBLISH
X-WR-CALNAME:Calendário de Eventos
X-ORIGINAL-URL:https://eventos.cm-cadaval.pt
X-WR-CALDESC:Events for Calendário de Eventos
REFRESH-INTERVAL;VALUE=DURATION:PT1H
X-Robots-Tag:noindex
X-PUBLISHED-TTL:PT1H
BEGIN:VTIMEZONE
TZID:UTC
BEGIN:STANDARD
TZOFFSETFROM:+0000
TZOFFSETTO:+0000
TZNAME:UTC
DTSTART:20260101T000000
END:STANDARD
END:VTIMEZONE
BEGIN:VEVENT
DTSTART;TZID=UTC:20260424T080000
DTEND;TZID=UTC:20260425T170000
DTSTAMP:20260420T003620
CREATED:20260416T111010Z
LAST-MODIFIED:20260416T111010Z
UID:2185-1777017600-1777136400@eventos.cm-cadaval.pt
SUMMARY:Comemorações do 52.º Aniversário do 25 de Abril
DESCRIPTION:O Município do Cadaval assinala o 52.º Aniversário do 25 de abril.\n\n\n\nNo Cadaval\, a liberdade celebra-se com um programa pensado para todos.\n\n\nDescubra o que preparámos e junte-se a esta celebração.\n\n\n\nConheça o programa completo.
URL:https://eventos.cm-cadaval.pt/evento/comemoracoes-do-52-o-aniversario-do-25-de-abril/
CATEGORIES:Cultura
ATTACH;FMTTYPE=image/png:https://eventos.cm-cadaval.pt/wp-content/uploads/2026/04/1.png
END:VEVENT
BEGIN:VEVENT
DTSTART;VALUE=DATE:20260516
DTEND;VALUE=DATE:20260518
DTSTAMP:20260420T003620
CREATED:20260407T125041Z
LAST-MODIFIED:20260407T125041Z
UID:2173-1778889600-1779062399@eventos.cm-cadaval.pt
SUMMARY:
DESCRIPTION:Just Love Mantra Festival | 16 & 17 MAIO 2026\n\n\nO Just Love Mantra Festival é um espaço onde a alma floresce\, a vida se celebra em sorrisos e o amor prevalece! \nDois dias de música\, mantras\, yoga e meditação\, com workshops e aulas pensados para acalmar a mente e nutrir o coração\, oferecendo-te ferramentas para o dia a dia. \nJunta-te a nós e vem deixar a tua marca no nosso Mural de Arte! Ao longo do festival\, terás a oportunidade de explorar o teu lado criativo e transformar a tua mente através da arte. \n\n\n\n\nMÚSICA\n\n\nA música é o coração do festival! Durante dois dias\, vais poder cantar\, dançar e simplesmente ser feliz\, com concertos que te envolvem numa energia de alegria e conexão. \n\n\n\n\nWORKSHOPS\n\nAprende novas práticas para acalmar a mente e ouvir o coração. Desde yoga e meditação a desenvolvimento pessoal\, os workshops são momentos de descoberta\, aprendizagem e partilha.\n\n\n\n\nCOMIDA VEGAN\n\nA alimentação faz parte da experiência! No nosso Food Court\, encontras comida 100% vegetal\, desde opções leves e nutritivas a sugestões deliciosas – sempre preparadas com amor.\n\n\n\nBilhetes à venda em www.justlovemantra.pt
URL:https://eventos.cm-cadaval.pt/evento/2173/
LOCATION:Ashram\, 62F4+GM\, Cercal\, Cadaval\, Portugal
CATEGORIES:Ambiente,Familiar,Festa,Juventude,Meditação,Música,Yoga
ATTACH;FMTTYPE=image/jpeg:https://eventos.cm-cadaval.pt/wp-content/uploads/2026/04/xYcdfM6MflFR.jpg
ORGANIZER;CN="Bhakti Marga Portugal":MAILTO:https://bhaktimarga.pt/
END:VEVENT
END:VCALENDAR