BEGIN:VCALENDAR
VERSION:2.0
PRODID:-//Calendário de Eventos - ECPv6.11.2//NONSGML v1.0//EN
CALSCALE:GREGORIAN
METHOD:PUBLISH
X-ORIGINAL-URL:https://eventos.cm-cadaval.pt
X-WR-CALDESC:Events for Calendário de Eventos
REFRESH-INTERVAL;VALUE=DURATION:PT1H
X-Robots-Tag:noindex
X-PUBLISHED-TTL:PT1H
BEGIN:VTIMEZONE
TZID:UTC
BEGIN:STANDARD
TZOFFSETFROM:+0000
TZOFFSETTO:+0000
TZNAME:UTC
DTSTART:20250101T000000
END:STANDARD
END:VTIMEZONE
BEGIN:VEVENT
DTSTART;TZID=UTC:20251119T110000
DTEND;TZID=UTC:20251122T123000
DTSTAMP:20260424T010018
CREATED:20251119T101121Z
LAST-MODIFIED:20251119T101121Z
UID:1927-1763550000-1763814600@eventos.cm-cadaval.pt
SUMMARY:Pluralis - 7.ª sessão
DESCRIPTION:É já este sábado\, 22 de novembro\, pelas 11h00\, que tem lugar na Biblioteca Municipal do Cadaval\, mais uma edição “Pluralis”\, sob o tema; “Depois do São Martinho: as grandes obras de caridade”. \nA inscrição é obrigatória e pode fazê-la através do E-mail: biblioteca@cm-cadaval.pt \n 
URL:https://eventos.cm-cadaval.pt/evento/pluralis-7-a-sessao/
CATEGORIES:Cultura
ATTACH;FMTTYPE=image/png:https://eventos.cm-cadaval.pt/wp-content/uploads/2025/11/PLURALIS-6.png
END:VEVENT
END:VCALENDAR