BEGIN:VCALENDAR
VERSION:2.0
PRODID:-//Calendário de Eventos - ECPv6.11.2//NONSGML v1.0//EN
CALSCALE:GREGORIAN
METHOD:PUBLISH
X-ORIGINAL-URL:https://eventos.cm-cadaval.pt
X-WR-CALDESC:Events for Calendário de Eventos
REFRESH-INTERVAL;VALUE=DURATION:PT1H
X-Robots-Tag:noindex
X-PUBLISHED-TTL:PT1H
BEGIN:VTIMEZONE
TZID:UTC
BEGIN:STANDARD
TZOFFSETFROM:+0000
TZOFFSETTO:+0000
TZNAME:UTC
DTSTART:20250101T000000
END:STANDARD
END:VTIMEZONE
BEGIN:VEVENT
DTSTART;TZID=UTC:20251018T110000
DTEND;TZID=UTC:20251018T120000
DTSTAMP:20260424T224613
CREATED:20251015T080634Z
LAST-MODIFIED:20251015T081620Z
UID:1858-1760785200-1760788800@eventos.cm-cadaval.pt
SUMMARY:Hora do Conto Pais e Filhos - Dia da Alimentação
DESCRIPTION:No dia 18 de outubro\, às 11 horas\, a Biblioteca Municipal do Cadaval convida-o(a) a descobrir a história “O Tigre Que Veio para o Chá”\, em mais uma edição da iniciativa “Hora do Conto Pais e Filhos”\, no âmbito do Dia da Alimentação.\nA sessão é uma oportunidade para partilhar bons momentos em família\, despertando o gosto pela leitura junto dos mais pequenos.\nJunte-se a nós! \n\n 
URL:https://eventos.cm-cadaval.pt/evento/hora-do-conto-pais-e-filhos-dia-da-alimentacao/
CATEGORIES:Cultura
ATTACH;FMTTYPE=image/png:https://eventos.cm-cadaval.pt/wp-content/uploads/2025/10/Horas-do-Conto-22-002-1.png
END:VEVENT
END:VCALENDAR