BEGIN:VCALENDAR
VERSION:2.0
PRODID:-//Calendário de Eventos - ECPv6.11.2//NONSGML v1.0//EN
CALSCALE:GREGORIAN
METHOD:PUBLISH
X-ORIGINAL-URL:https://eventos.cm-cadaval.pt
X-WR-CALDESC:Events for Calendário de Eventos
REFRESH-INTERVAL;VALUE=DURATION:PT1H
X-Robots-Tag:noindex
X-PUBLISHED-TTL:PT1H
BEGIN:VTIMEZONE
TZID:UTC
BEGIN:STANDARD
TZOFFSETFROM:+0000
TZOFFSETTO:+0000
TZNAME:UTC
DTSTART:20250101T000000
END:STANDARD
END:VTIMEZONE
BEGIN:VEVENT
DTSTART;TZID=UTC:20250719T200000
DTEND;TZID=UTC:20250719T220000
DTSTAMP:20260424T061849
CREATED:20250709T093927Z
LAST-MODIFIED:20250709T093948Z
UID:1805-1752955200-1752962400@eventos.cm-cadaval.pt
SUMMARY:Espetáculo de Dança\, Musicais\, Concerto Dançado
DESCRIPTION:A magia dos musicais sobe a palco no Cadaval através do talento dos alunos da Escola de Dança da Casa do Povo. \nNo próximo dia 19 de julho\, pelas 20h00\, o Pavilhão Gimnodesportivo do Cadaval recebe um espetáculo de dança/ concerto dançado\, coordenado e coreografado pela professora Sofia Inácio\, que contará com a participação especial da Banda Filarmónica 1.º de Dezembro de 1882 de Pragança\, dirigida pelo maestro Rolando Ferreira. \nEntrada livre.
URL:https://eventos.cm-cadaval.pt/evento/espectaculo-de-danca-musicais-concerto-dancado/
LOCATION:Pavilhão Gimnodesportivo do Cadaval\, N115 1\, Cadaval\, Cadaval\, Portugal
CATEGORIES:Cultura
ATTACH;FMTTYPE=image/png:https://eventos.cm-cadaval.pt/wp-content/uploads/2025/07/Musicais-Concerto-Dancado-Post-para-Instagram-45.png
ORGANIZER;CN="C%C3%A2mara Municipal de Cadaval":MAILTO:geral@cm-cadaval.pt
END:VEVENT
END:VCALENDAR