BEGIN:VCALENDAR
VERSION:2.0
PRODID:-//Calendário de Eventos - ECPv6.11.2//NONSGML v1.0//EN
CALSCALE:GREGORIAN
METHOD:PUBLISH
X-WR-CALNAME:Calendário de Eventos
X-ORIGINAL-URL:https://eventos.cm-cadaval.pt
X-WR-CALDESC:Events for Calendário de Eventos
REFRESH-INTERVAL;VALUE=DURATION:PT1H
X-Robots-Tag:noindex
X-PUBLISHED-TTL:PT1H
BEGIN:VTIMEZONE
TZID:UTC
BEGIN:STANDARD
TZOFFSETFROM:+0000
TZOFFSETTO:+0000
TZNAME:UTC
DTSTART:20250101T000000
END:STANDARD
END:VTIMEZONE
BEGIN:VEVENT
DTSTART;VALUE=DATE:20250726
DTEND;VALUE=DATE:20250727
DTSTAMP:20260424T005817
CREATED:20250715T145829Z
LAST-MODIFIED:20250715T145829Z
UID:1829-1753488000-1753574399@eventos.cm-cadaval.pt
SUMMARY:Feira de Artesanato\, Velharias e Colecionismo do Cadaval
DESCRIPTION:Ao quarto sábado de cada mês\, a Praça da República do Cadaval recebe a Feira de Artesanato\, Velharias e Colecionismo e as inscrições para feirantes/ vendedores deverão ser feitas até ao terceiro sábado de cada mês\, desta feita\, até dia 19 de julho realizando-se a próxima feira uma semana depois\, a 26 de julho. \nAs inscrições podem ser efetuadas através do preenchimento do respetivo formulário online\, por e-mail (empreendedorismo@cm-cadaval.pt) ou diretamente no Balcão Único de Atendimento dos Paços do Concelho do Cadaval. \nInscrições\, Normas de Participação e mais informação aqui.
URL:https://eventos.cm-cadaval.pt/evento/feira-de-artesanato-velharias-e-colecionismo-do-cadaval-2/
LOCATION:Praça da República do Cadaval\, 2550-116 Cadaval\, Cadaval\, Portugal
CATEGORIES:Feiras
ATTACH;FMTTYPE=image/png:https://eventos.cm-cadaval.pt/wp-content/uploads/2025/07/26-julho-1-scaled.png
ORGANIZER;CN="C%C3%A2mara Municipal de Cadaval":MAILTO:geral@cm-cadaval.pt
END:VEVENT
END:VCALENDAR