BEGIN:VCALENDAR
VERSION:2.0
PRODID:-//Calendário de Eventos - ECPv6.11.2//NONSGML v1.0//EN
CALSCALE:GREGORIAN
METHOD:PUBLISH
X-WR-CALNAME:Calendário de Eventos
X-ORIGINAL-URL:https://eventos.cm-cadaval.pt
X-WR-CALDESC:Events for Calendário de Eventos
REFRESH-INTERVAL;VALUE=DURATION:PT1H
X-Robots-Tag:noindex
X-PUBLISHED-TTL:PT1H
BEGIN:VTIMEZONE
TZID:UTC
BEGIN:STANDARD
TZOFFSETFROM:+0000
TZOFFSETTO:+0000
TZNAME:UTC
DTSTART:20250101T000000
END:STANDARD
END:VTIMEZONE
BEGIN:VEVENT
DTSTART;TZID=UTC:20251030T110000
DTEND;TZID=UTC:20251030T123000
DTSTAMP:20260423T073534
CREATED:20251028T113621Z
LAST-MODIFIED:20251028T113621Z
UID:1881-1761822000-1761827400@eventos.cm-cadaval.pt
SUMMARY:Outubro Rosa - Na prevenção e no diagnóstico do cancro da mama
DESCRIPTION:Para além dos rastreios e atividades ligadas ao Outubro Rosa e para fechar este mês de consciencialização para o Cancro da Mama\, terá lugar uma palestra de sensibilização para a prevenção desta doença\, na Biblioteca Municipal no próximo dia 30 de outubro às 11h00. \nNão falte!
URL:https://eventos.cm-cadaval.pt/evento/outubro-rosa-na-prevencao-e-no-diagnostico-do-cancro-da-mama/
LOCATION:Biblioteca Municipal do Cadaval\, Rua do Moinho 88\, Cadaval\, 2550-354
CATEGORIES:Saúde
ATTACH;FMTTYPE=image/png:https://eventos.cm-cadaval.pt/wp-content/uploads/2025/10/Outubro-Rosa-1.png
ORGANIZER;CN="C%C3%A2mara Municipal de Cadaval":MAILTO:geral@cm-cadaval.pt
END:VEVENT
END:VCALENDAR