BEGIN:VCALENDAR
VERSION:2.0
PRODID:-//Calendário de Eventos - ECPv6.11.2//NONSGML v1.0//EN
CALSCALE:GREGORIAN
METHOD:PUBLISH
X-ORIGINAL-URL:https://eventos.cm-cadaval.pt
X-WR-CALDESC:Events for Calendário de Eventos
REFRESH-INTERVAL;VALUE=DURATION:PT1H
X-Robots-Tag:noindex
X-PUBLISHED-TTL:PT1H
BEGIN:VTIMEZONE
TZID:UTC
BEGIN:STANDARD
TZOFFSETFROM:+0000
TZOFFSETTO:+0000
TZNAME:UTC
DTSTART:20250101T000000
END:STANDARD
END:VTIMEZONE
BEGIN:VEVENT
DTSTART;VALUE=DATE:20250425
DTEND;VALUE=DATE:20250426
DTSTAMP:20260425T015417
CREATED:20250411T103502Z
LAST-MODIFIED:20250411T103655Z
UID:1477-1745539200-1745625599@eventos.cm-cadaval.pt
SUMMARY:Comemorações do 51.º Aniversário do 25 de Abril
DESCRIPTION:O Município do Cadaval assinala o 51.º Aniversário do 25 de abril.\n\nAo longo do Dia da Liberdade são vários os eventos que marcam as celebrações.\n\nJunte-se às comemorações e relembre connosco o significado deste marco histórico que abriu portas a um conjunto de profundas alterações democráticas – políticas\, sociais\, culturais e económicas – que marcaram a vida do nosso país.\nConheça o programa completo. 
URL:https://eventos.cm-cadaval.pt/evento/comemoracoes-do-51-o-aniversario-do-25-de-abril/
CATEGORIES:Cultura
ATTACH;FMTTYPE=image/png:https://eventos.cm-cadaval.pt/wp-content/uploads/2025/04/comprimida_-25-de-abril.png
ORGANIZER;CN="C%C3%A2mara Municipal de Cadaval":MAILTO:geral@cm-cadaval.pt
END:VEVENT
END:VCALENDAR