BEGIN:VCALENDAR
VERSION:2.0
PRODID:-//Calendário de Eventos - ECPv6.11.2//NONSGML v1.0//EN
CALSCALE:GREGORIAN
METHOD:PUBLISH
X-ORIGINAL-URL:https://eventos.cm-cadaval.pt
X-WR-CALDESC:Events for Calendário de Eventos
REFRESH-INTERVAL;VALUE=DURATION:PT1H
X-Robots-Tag:noindex
X-PUBLISHED-TTL:PT1H
BEGIN:VTIMEZONE
TZID:UTC
BEGIN:STANDARD
TZOFFSETFROM:+0000
TZOFFSETTO:+0000
TZNAME:UTC
DTSTART:20250101T000000
END:STANDARD
END:VTIMEZONE
BEGIN:VEVENT
DTSTART;TZID=UTC:20250430T213000
DTEND;TZID=UTC:20250430T223000
DTSTAMP:20260425T173808
CREATED:20250429T113131Z
LAST-MODIFIED:20250429T113131Z
UID:1565-1746048600-1746052200@eventos.cm-cadaval.pt
SUMMARY:Concerto de Jazz
DESCRIPTION:O concerto de jazz com The S.U.N. (The Seven United Nations)\, inicialmente integrado nas comemorações do 25 de Abril\, realizar-se-á amanhã\, 30 de abril\, pelas 21h30\, no Polo Cultural e Social da Fonte. \nO evento\, adiado devido ao luto nacional decretado pelo Governo\, coincide agora com as celebrações do Dia Internacional do Jazz. \nA entrada para este concerto é livre\, não sendo necessária reserva prévia.
URL:https://eventos.cm-cadaval.pt/evento/concerto-de-jazz/
LOCATION:Polo Cultural e Social da Fonte\, R. do Olival da Fonte\,Cadaval\, Cadaval\, 2550-148
CATEGORIES:Cultura,Música
ATTACH;FMTTYPE=image/png:https://eventos.cm-cadaval.pt/wp-content/uploads/2025/04/Concerto-2-1-scaled.png
ORGANIZER;CN="C%C3%A2mara Municipal de Cadaval":MAILTO:geral@cm-cadaval.pt
END:VEVENT
END:VCALENDAR