BEGIN:VCALENDAR
VERSION:2.0
PRODID:-//Calendário de Eventos - ECPv6.11.2//NONSGML v1.0//EN
CALSCALE:GREGORIAN
METHOD:PUBLISH
X-WR-CALNAME:Calendário de Eventos
X-ORIGINAL-URL:https://eventos.cm-cadaval.pt
X-WR-CALDESC:Events for Calendário de Eventos
REFRESH-INTERVAL;VALUE=DURATION:PT1H
X-Robots-Tag:noindex
X-PUBLISHED-TTL:PT1H
BEGIN:VTIMEZONE
TZID:UTC
BEGIN:STANDARD
TZOFFSETFROM:+0000
TZOFFSETTO:+0000
TZNAME:UTC
DTSTART:20250101T000000
END:STANDARD
END:VTIMEZONE
BEGIN:VEVENT
DTSTART;TZID=UTC:20250523T100000
DTEND;TZID=UTC:20250525T233000
DTSTAMP:20260423T143108
CREATED:20250415T110213Z
LAST-MODIFIED:20250415T110348Z
UID:1485-1747994400-1748215800@eventos.cm-cadaval.pt
SUMMARY:Festa da Juventude
DESCRIPTION:A Festa da Juventude está de regresso. De 23 a 25 de maio\, o Parque de Lazer será palco da 2.ª edição da Festa da Juventude. Mais informações disponíveis em breve. \nMarque já na agenda! \n 
URL:https://eventos.cm-cadaval.pt/evento/festa-da-juventude/
CATEGORIES:Cultura,Juventude
ATTACH;FMTTYPE=image/jpeg:https://eventos.cm-cadaval.pt/wp-content/uploads/2025/04/490320866_1144753317692203_4925006273010078922_n.jpg
ORGANIZER;CN="C%C3%A2mara Municipal de Cadaval":MAILTO:geral@cm-cadaval.pt
END:VEVENT
END:VCALENDAR