BEGIN:VCALENDAR
VERSION:2.0
PRODID:-//Calendário de Eventos - ECPv6.11.2//NONSGML v1.0//EN
CALSCALE:GREGORIAN
METHOD:PUBLISH
X-ORIGINAL-URL:https://eventos.cm-cadaval.pt
X-WR-CALDESC:Events for Calendário de Eventos
REFRESH-INTERVAL;VALUE=DURATION:PT1H
X-Robots-Tag:noindex
X-PUBLISHED-TTL:PT1H
BEGIN:VTIMEZONE
TZID:UTC
BEGIN:STANDARD
TZOFFSETFROM:+0000
TZOFFSETTO:+0000
TZNAME:UTC
DTSTART:20260101T000000
END:STANDARD
END:VTIMEZONE
BEGIN:VEVENT
DTSTART;TZID=UTC:20260124T140000
DTEND;TZID=UTC:20260124T163000
DTSTAMP:20260420T074640
CREATED:20260110T112147Z
LAST-MODIFIED:20260110T112255Z
UID:2059-1769263200-1769272200@eventos.cm-cadaval.pt
SUMMARY:VAIKUNTHA TALKS c/ Luís Portela - Ciência e Espiritualidade
DESCRIPTION:Bem-vindo ao Vaikuntha Talks\, um espaço de diálogo e reflexão. O Vaikuntha Talks é um ciclo de conversas dedicado à exploração de temas que cruzam consciência\, conhecimento e experiência humana. Nesta primeira edição\, Luís Portela conduz uma conversa dedicada à relação entre ciência e espiritualidade. \nA partir do seu percurso enquanto médico\, professor universitário e investigador\, esta talk propõe um olhar aberto sobre como o conhecimento científico e a dimensão espiritual podem coexistir e dialogar\, contribuindo para uma compreensão mais profunda da vida\, da consciência e do ser humano. \nLuís Portela foi presidente da Bial durante várias décadas\, desempenhando um papel central no desenvolvimento de terapias inovadoras em áreas como Parkinson\, epilepsia e Alzheimer. Paralelamente à sua carreira na medicina e na investigação\, é um defensor ativo do estudo científico da consciência e de fenómenos ainda pouco explorados pela ciência convencional\, como a telepatia\, o poder do pensamento\, a meditação\, a regressão e as experiências de quase morte. \nFundador da Fundação Bial em 1994\, tem promovido o estudo científico do ser humano nas suas dimensões física e espiritual\, apoiando investigação nas áreas das neurociências e da parapsicologia. É também autor de vários livros sobre espiritualidade e criador da série documental Para Além do Cérebro\, produzida em parceria com a RTP. \nNesta conversa\, Luís Portela partilha a sua visão sobre a espiritualidade como um campo legítimo de investigação científica\, ainda em expansão\, e sobre o potencial humano quando ciência e espiritualidade caminham lado a lado. \nInscrições em Vaikuntha Talks 1ª Edição 2026 . \nData: 24 de janeiro \nHora: 14h00 \nLocal: Ashram Bhakti Marga Portugal
URL:https://eventos.cm-cadaval.pt/evento/vaikuntha-talks-c-luis-portela-ciencia-e-espiritualidade/
LOCATION:Ashram\, 62F4+GM\, Cercal\, Cadaval\, Portugal
CATEGORIES:Diversos,Meditação,Saúde,Yoga
ORGANIZER;CN="Bhakti Marga Portugal":MAILTO:https://bhaktimarga.pt/
END:VEVENT
BEGIN:VEVENT
DTSTART;TZID=UTC:20260127T080000
DTEND;TZID=UTC:20260204T170000
DTSTAMP:20260420T074641
CREATED:20260127T121404Z
LAST-MODIFIED:20260127T121404Z
UID:2088-1769500800-1770224400@eventos.cm-cadaval.pt
SUMMARY:Sessão de Esclarecimentos - Sistema de Incentivos de Base Territorial – ITI CIM do Oeste – Indústria
DESCRIPTION:Decorre no próximo dia 4 de fevereiro pelas 15h00 no Auditório dos Paços do Concelho\, uma Sessão de Esclarecimentos sobre “Sistema de Incentivos de Base Territorial – ITI CIM do Oeste – Indústria”\, organizado pela OesteCim\, com a presença de Paulo Simões\, Secretário executivo. \n\nFinanciado pelo Fundo Europeu de Desenvolvimento Regional (FEDER)\, conta com uma dotação indicativa de 2\,5 milhões de euros e uma taxa máxima de cofinanciamento de 40%\, visando reforçar a competitividade\, a modernização produtiva e a criação e manutenção de emprego nas micro e pequenas empresas industriais da região.\n\nSão elegíveis projetos de investimento de pequena dimensão enquadrados em duas tipologias principais:\nCriação de micro e pequena empresas\, correspondendo a estratégias de investimento em empresas com menos de 5 anos de atividade à data de submissão da candidatura;\nExpansão ou modernização de micro e pequenas empresas\, com pelo menos 5 anos de atividade à data de submissão da candidatura\, designadamente através do aumento da atividade económica\, integração em cadeias de valor e expansão de redes empresariais ou outros projetos de ganhos de escala\n\nPara mais informações\, notícia completa aqui.
URL:https://eventos.cm-cadaval.pt/evento/sessao-de-esclarecimentos-sistema-de-incentivos-de-base-territorial-iti-cim-do-oeste-industria/
CATEGORIES:Diversos
ATTACH;FMTTYPE=image/png:https://eventos.cm-cadaval.pt/wp-content/uploads/2026/01/POST-Sessao-de-Esclarecimento-OESTECIM.png
END:VEVENT
END:VCALENDAR