BEGIN:VCALENDAR
VERSION:2.0
PRODID:-//Calendário de Eventos - ECPv6.11.2//NONSGML v1.0//EN
CALSCALE:GREGORIAN
METHOD:PUBLISH
X-ORIGINAL-URL:https://eventos.cm-cadaval.pt
X-WR-CALDESC:Events for Calendário de Eventos
REFRESH-INTERVAL;VALUE=DURATION:PT1H
X-Robots-Tag:noindex
X-PUBLISHED-TTL:PT1H
BEGIN:VTIMEZONE
TZID:UTC
BEGIN:STANDARD
TZOFFSETFROM:+0000
TZOFFSETTO:+0000
TZNAME:UTC
DTSTART:20260101T000000
END:STANDARD
END:VTIMEZONE
BEGIN:VEVENT
DTSTART;TZID=UTC:20260228T150000
DTEND;TZID=UTC:20260228T190000
DTSTAMP:20260423T045651
CREATED:20260223T113015Z
LAST-MODIFIED:20260223T113719Z
UID:2117-1772290800-1772305200@eventos.cm-cadaval.pt
SUMMARY:Grande Prémio de Atletismo "CORRE CADAVAL" | 5.ª edição
DESCRIPTION:No dia 28 de fevereiro de 2026 (sábado)\, o Município do Cadaval promove a quinta edição do Grande Prémio de Atletismo “Corre Cadaval”\, prova que voltará a contar com o apoio da Associação de Atletismo de Lisboa.\nO Grande Prémio irá dividir-se em duas provas: \n\nProva Juvenil: Circuitos no Parque de Lazer\n\nProva de Honra (10 km): Com partida e chegada ao Parque de Lazer\, passando por Casal Cabreiro\, Casais de Montejunto e Chão do Sapo\, utilizando uma parte da ciclovia. \n\n\nTodas as informações e incrições AQUI
URL:https://eventos.cm-cadaval.pt/evento/grande-premio-de-atletismo-corre-cadaval-5-a-edicao/
CATEGORIES:Desporto
ATTACH;FMTTYPE=image/png:https://eventos.cm-cadaval.pt/wp-content/uploads/2026/02/POST-CORRE-CADAVAL_2026.png
END:VEVENT
END:VCALENDAR