BEGIN:VCALENDAR
VERSION:2.0
PRODID:-//Calendário de Eventos - ECPv6.11.2//NONSGML v1.0//EN
CALSCALE:GREGORIAN
METHOD:PUBLISH
X-WR-CALNAME:Calendário de Eventos
X-ORIGINAL-URL:https://eventos.cm-cadaval.pt
X-WR-CALDESC:Events for Calendário de Eventos
REFRESH-INTERVAL;VALUE=DURATION:PT1H
X-Robots-Tag:noindex
X-PUBLISHED-TTL:PT1H
BEGIN:VTIMEZONE
TZID:UTC
BEGIN:STANDARD
TZOFFSETFROM:+0000
TZOFFSETTO:+0000
TZNAME:UTC
DTSTART:20250101T000000
END:STANDARD
END:VTIMEZONE
BEGIN:VEVENT
DTSTART;TZID=UTC:20251222T080000
DTEND;TZID=UTC:20260120T170000
DTSTAMP:20260420T054151
CREATED:20251222T172239Z
LAST-MODIFIED:20251222T173525Z
UID:2037-1766390400-1768928400@eventos.cm-cadaval.pt
SUMMARY:CORPO SANO EM MENTE SANA +55
DESCRIPTION:CORPO SANO EM MENTE SANA\nCriação de um espaço para falar\, partilhar saberes\, experiências significativas\, fazendo os participantes sentirem-se ouvidos\, um espaço para ir um pouco mais além\, com momentos mais teóricos e outros mais práticos\, reaprendendo também a lidar consigo\, com as emoções de uma forma diferente do que foram ensinados. \nEnfim\, re-significar é urgente “Corpo sano em mente sana” –  “Nunca é tarde para aprender \, nunca é tarde para mudar “ é um programa simples porém com capacidade de catalisar mudanças efectivas no  dia a dia. \n  \nParticipação gratuita com inscrição obrigatória. \nCLDS 5G Melhor Cadaval | Associação Leader Oeste \n262 096 366 | 917 066 391 \ncldscadaval@gmail.com
URL:https://eventos.cm-cadaval.pt/evento/corpo-sano-em-mente-sana-55/
LOCATION:Leader Oeste-Associação Desenvolvimento Rural\, Rua Dr. Duarte Ribeiro de Macedo s/n Edifício da Antiga Escola Primária\, Cadaval\, Cadaval\, 2550-149\, Portugal
CATEGORIES:Cultura,Familiar,Saúde
ATTACH;FMTTYPE=image/jpeg:https://eventos.cm-cadaval.pt/wp-content/uploads/2025/12/POST-2-scaled.jpg
ORGANIZER;CN="CLDS 5G Melhor Cadaval - Leader Oeste":MAILTO:cldscadaval@gmail.com
END:VEVENT
BEGIN:VEVENT
DTSTART;TZID=UTC:20251222T080000
DTEND;TZID=UTC:20260122T170000
DTSTAMP:20260420T054151
CREATED:20251222T162426Z
LAST-MODIFIED:20251222T172402Z
UID:2021-1766390400-1769101200@eventos.cm-cadaval.pt
SUMMARY:Danças Tradicionais +55
DESCRIPTION:  \nO CLDS 5G Melhor Cadaval vai desenvolver\, em parceria com a Câmara Municipal do Cadaval\, um conjunto de atividades que pretendem promover a prática de atividade física junto da população com mais de 55 anos! \nAs Danças Tradicionais  enquanto forma de expressão artística e corporal\, é uma atividade física completa com vários benefícios comprovados na condição física e mental\, melhorando a saúde e facilitando a socialização. Quando o corpo se move com alegria e boa disposição até a vida ganha outro compasso. \nA inscrição é gratuita mas obrigatória\, e pode ser feita através do seguinte contacto: \nCLDS 5G Melhor Cadaval | Associação Leader Oeste \n262 096 366 | 917 066 391 \ncldscadaval@gmail.com
URL:https://eventos.cm-cadaval.pt/evento/dancas-tradicionais-55/
LOCATION:Casa do Povo\, Rua Dr. José Joyce Damas Mora 15\,\, Cadaval\, Oeste\, 2550-102\, Portugal
CATEGORIES:Ação Social,Cultura,Desporto,Música,Saúde
ATTACH;FMTTYPE=image/jpeg:https://eventos.cm-cadaval.pt/wp-content/uploads/2025/12/POST_-DANCAS.jpg
ORGANIZER;CN="CLDS 5G Melhor Cadaval - Leader Oeste":MAILTO:cldscadaval@gmail.com
END:VEVENT
BEGIN:VEVENT
DTSTART;TZID=UTC:20251222T100000
DTEND;TZID=UTC:20260121T110000
DTSTAMP:20260420T054151
CREATED:20251222T152457Z
LAST-MODIFIED:20251222T170357Z
UID:1993-1766397600-1768993200@eventos.cm-cadaval.pt
SUMMARY:Walking Football +55
DESCRIPTION:  \n  \nO CLDS 5G Melhor Cadaval vai desenvolver\, em parceria com a Câmara Municipal do Cadaval\, um conjunto de atividades que pretendem promover a prática de atividade física junto da população com mais de 55 anos!\nO Walking Football é uma variante do futebol\, é futebol a andar\, e tem como objetivo incentivar a prática desportiva para pessoas com idades superiores a 55 anos\, promovendo a integração e o convívio em prol de uma vida mais ativa.\nEsta adaptação do futebol sem corridas\, saltos\, rasteiras\, carrinhos e cortes permite a participação de todos\, independentemente da idade ou condição física\, visando proteger quem o pratica.\nAs equipas são mistas e homens e mulheres podem participar.\n  \nA inscrição para esta atividade é gratuita\, mas obrigatória  e pode ser feita através dos seguintes contactos.\nCLDS 5G Melhor Cadaval \n262 096 366 | 917 066 391 \ncldscadaval@gmail.com \n  \n  \n 
URL:https://eventos.cm-cadaval.pt/evento/__trashed/
LOCATION:Pavilhão do Grupo Desportivo do Vilar\, Vilar\, Cadaval\, Portugal
CATEGORIES:Ação Social,Desporto,Saúde
ATTACH;FMTTYPE=image/jpeg:https://eventos.cm-cadaval.pt/wp-content/uploads/2025/12/post-scaled.jpg
ORGANIZER;CN="CLDS 5G Melhor Cadaval - Leader Oeste":MAILTO:cldscadaval@gmail.com
END:VEVENT
END:VCALENDAR