BEGIN:VCALENDAR
VERSION:2.0
PRODID:-//Calendário de Eventos - ECPv6.11.2//NONSGML v1.0//EN
CALSCALE:GREGORIAN
METHOD:PUBLISH
X-ORIGINAL-URL:http://eventos.cm-cadaval.pt
X-WR-CALDESC:Events for Calendário de Eventos
REFRESH-INTERVAL;VALUE=DURATION:PT1H
X-Robots-Tag:noindex
X-PUBLISHED-TTL:PT1H
BEGIN:VTIMEZONE
TZID:UTC
BEGIN:STANDARD
TZOFFSETFROM:+0000
TZOFFSETTO:+0000
TZNAME:UTC
DTSTART:20260101T000000
END:STANDARD
END:VTIMEZONE
BEGIN:VEVENT
DTSTART;TZID=UTC:20260320T080000
DTEND;TZID=UTC:20260325T170000
DTSTAMP:20260420T044055
CREATED:20260320T135552Z
LAST-MODIFIED:20260320T135552Z
UID:2154-1773993600-1774458000@eventos.cm-cadaval.pt
SUMMARY:Cadaval abre espaço a novos olhares sobre o mundo rural e o futuro dos territórios
DESCRIPTION:O Município do Cadaval e a Leader Oeste promovem\, a partir de março de 2026\, um ciclo de quatro conferências dedicado aos “Desafios e Oportunidades dos Territórios Rurais”. A primeira sessão realiza-se a 24 de março\, às 14h00\, no Auditório dos Paços do Concelho\, sob o tema “Olhares sobre a ruralidade e recuperação atualizada da aldeia”. \nA iniciativa convida à reflexão sobre o futuro das aldeias e o papel da ruralidade na construção de territórios mais resilientes\, equilibrados e sustentáveis. \nom esta iniciativa\, o Município do Cadaval reafirma o seu compromisso com o debate informado e convida à reflexão e à ação em torno de soluções sustentáveis\, ajustadas às realidades locais. \nA participação é gratuita\, mas carece de inscrição. Mais informações e incrições AQUI \nPrograma \n14h00 – Abertura: Presidente do Município de Cadaval e Membro da Direção da Leader Oeste \n14h30- Keynote speaker: “En busca de la aldea perdida” – Jaime Izquierdo Vallina\, Cátedra Cultural Pedro Molina de Estudios Campesinos\, Universidad de La laguna\, Espanha \n15h30 – “A intervenção do programa LEADER no Oeste: um mapeamento de exemplos de uma ruralidade marcante” – José Coutinho\, Coordenador da ETL do GAL\, Leader Oeste \n16h00 – Debate \n16h30 – Coffee Break \n17h00 – Apresentação do livro “Uma nova economia para a aldeia do século XXI”\, de Jaime Izquierdo Vallina\, com tradução e adaptação ao português de Ana Bijóias Mendonça \nApresentação a cargo de Firmino Cordeiro\, Diretor- Geral da Associação de Jovens Agricultores de Portugal (AJAP)\, e de Teresa Adão\, editora Edições Esgotadas.
URL:http://eventos.cm-cadaval.pt/evento/cadaval-abre-espaco-a-novos-olhares-sobre-o-mundo-rural-e-o-futuro-dos-territorios/
CATEGORIES:Diversos
ATTACH;FMTTYPE=image/png:http://eventos.cm-cadaval.pt/wp-content/uploads/2026/03/ConferenciaApresentacao-do-livro_cartaz_2-1-scaled.png
END:VEVENT
END:VCALENDAR