BEGIN:VCALENDAR
VERSION:2.0
PRODID:-//Calendário de Eventos - ECPv6.11.2//NONSGML v1.0//EN
CALSCALE:GREGORIAN
METHOD:PUBLISH
X-WR-CALNAME:Calendário de Eventos
X-ORIGINAL-URL:http://eventos.cm-cadaval.pt
X-WR-CALDESC:Events for Calendário de Eventos
REFRESH-INTERVAL;VALUE=DURATION:PT1H
X-Robots-Tag:noindex
X-PUBLISHED-TTL:PT1H
BEGIN:VTIMEZONE
TZID:UTC
BEGIN:STANDARD
TZOFFSETFROM:+0000
TZOFFSETTO:+0000
TZNAME:UTC
DTSTART:20250101T000000
END:STANDARD
END:VTIMEZONE
BEGIN:VEVENT
DTSTART;TZID=UTC:20251129T100000
DTEND;TZID=UTC:20251129T190000
DTSTAMP:20260420T120507
CREATED:20251123T211633Z
LAST-MODIFIED:20251123T211633Z
UID:1936-1764410400-1764442800@eventos.cm-cadaval.pt
SUMMARY:Inauguração de Pera no Peral - Parque Temático e Interpretativo da Pera Rocha
DESCRIPTION:Pera no Peral – Parque Temático e Interpretativo da Pera Rocha inaugura oficialmente no dia 29 de novembro\, às 10h00\, na Rua do Ribeiro\, nº 37\, Peral\, Cadaval.\n\nConvidamos todos a viajar no tempo\, descobrir as tradições agrícolas da região e conhecer a história da Pera Rocha\, um dos maiores símbolos da fruticultura portuguesa.\n\n O que vai encontrar?• Museu interpretativo• Baloiço panorâmico e moldura gigante• Esculturas de peras para fotos inesquecíveis• Loja temática• Cafetaria com esplanada• Espaços para brincar e explorar em família\n\n Venha visitar-nos e viver esta experiência única!Pera no Peral- portal de eventos
URL:http://eventos.cm-cadaval.pt/evento/inauguracao-de-pera-no-peral-parque-tematico-e-interpretativo-da-pera-rocha/
LOCATION:Pera no Peral\, RUA DO RIBEIRO N 37\, Peral\, Cadaval\, 2550-441\, Portugal
CATEGORIES:Cultura,Familiar,Turismo
ORGANIZER;CN="Pera no Peral":MAILTO:info@peranoperal.pt
END:VEVENT
END:VCALENDAR